BEGIN:VCALENDAR
VERSION:2.0
PRODID:-//Shishukunj - ECPv5.12.2//NONSGML v1.0//EN
CALSCALE:GREGORIAN
METHOD:PUBLISH
X-WR-CALNAME:Shishukunj
X-ORIGINAL-URL:https://www.shishukunj.in/jhalaria-campus
X-WR-CALDESC:Events for Shishukunj
BEGIN:VTIMEZONE
TZID:Asia/Kolkata
BEGIN:STANDARD
TZOFFSETFROM:+0530
TZOFFSETTO:+0530
TZNAME:IST
DTSTART:20220101T000000
END:STANDARD
END:VTIMEZONE
BEGIN:VEVENT
DTSTART;VALUE=DATE:20220613
DTEND;VALUE=DATE:20220614
DTSTAMP:20260421T103022
CREATED:20220609T172618Z
LAST-MODIFIED:20220609T172743Z
UID:13495-1655078400-1655164799@www.shishukunj.in
SUMMARY:School Reopening for Classes VI to XII
DESCRIPTION:
URL:https://www.shishukunj.in/jhalaria-campus/event/school-reopening-for-classes-vi-to-xii/
CATEGORIES:Calendar
END:VEVENT
END:VCALENDAR