BEGIN:VCALENDAR
VERSION:2.0
PRODID:-//Shishukunj - ECPv5.12.2//NONSGML v1.0//EN
CALSCALE:GREGORIAN
METHOD:PUBLISH
X-WR-CALNAME:Shishukunj
X-ORIGINAL-URL:https://www.shishukunj.in/jhalaria-campus
X-WR-CALDESC:Events for Shishukunj
BEGIN:VTIMEZONE
TZID:Asia/Kolkata
BEGIN:STANDARD
TZOFFSETFROM:+0530
TZOFFSETTO:+0530
TZNAME:IST
DTSTART:20220101T000000
END:STANDARD
END:VTIMEZONE
BEGIN:VEVENT
DTSTART;VALUE=DATE:20220616
DTEND;VALUE=DATE:20220617
DTSTAMP:20260421T103017
CREATED:20220609T173237Z
LAST-MODIFIED:20220609T173237Z
UID:13501-1655337600-1655423999@www.shishukunj.in
SUMMARY:Interact Club - Speaker Session Col. Surender Phalswal Col. Ankur Kulin\, Classes IX-XII
DESCRIPTION:
URL:https://www.shishukunj.in/jhalaria-campus/event/interact-club-speaker-session-col-surender-phalswal-col-ankur-kulin-classes-ix-xii/
CATEGORIES:Calendar
END:VEVENT
END:VCALENDAR