BEGIN:VCALENDAR
VERSION:2.0
PRODID:-//Shishukunj - ECPv5.12.2//NONSGML v1.0//EN
CALSCALE:GREGORIAN
METHOD:PUBLISH
X-WR-CALNAME:Shishukunj
X-ORIGINAL-URL:https://www.shishukunj.in/jhalaria-campus
X-WR-CALDESC:Events for Shishukunj
BEGIN:VTIMEZONE
TZID:Asia/Kolkata
BEGIN:STANDARD
TZOFFSETFROM:+0530
TZOFFSETTO:+0530
TZNAME:IST
DTSTART:20220101T000000
END:STANDARD
END:VTIMEZONE
BEGIN:VEVENT
DTSTART;VALUE=DATE:20220624
DTEND;VALUE=DATE:20220625
DTSTAMP:20260421T103018
CREATED:20220622T104144Z
LAST-MODIFIED:20220622T104258Z
UID:13750-1656028800-1656115199@www.shishukunj.in
SUMMARY:Class Assembly: VIII-E
DESCRIPTION:
URL:https://www.shishukunj.in/jhalaria-campus/event/class-assembly-viii-e/
CATEGORIES:Calendar
END:VEVENT
END:VCALENDAR