BEGIN:VCALENDAR
VERSION:2.0
PRODID:-//Shishukunj - ECPv5.12.2//NONSGML v1.0//EN
CALSCALE:GREGORIAN
METHOD:PUBLISH
X-WR-CALNAME:Shishukunj
X-ORIGINAL-URL:https://www.shishukunj.in/jhalaria-campus
X-WR-CALDESC:Events for Shishukunj
BEGIN:VTIMEZONE
TZID:Asia/Kolkata
BEGIN:STANDARD
TZOFFSETFROM:+0530
TZOFFSETTO:+0530
TZNAME:IST
DTSTART:20220101T000000
END:STANDARD
END:VTIMEZONE
BEGIN:VEVENT
DTSTART;VALUE=DATE:20220721
DTEND;VALUE=DATE:20220722
DTSTAMP:20260421T084327
CREATED:20220810T110401Z
LAST-MODIFIED:20220810T110401Z
UID:14172-1658361600-1658447999@www.shishukunj.in
SUMMARY:Bakri Eid
DESCRIPTION:
URL:https://www.shishukunj.in/jhalaria-campus/event/bakri-eid/
CATEGORIES:Calendar
END:VEVENT
END:VCALENDAR