BEGIN:VCALENDAR
VERSION:2.0
PRODID:-//Shishukunj - ECPv5.12.2//NONSGML v1.0//EN
CALSCALE:GREGORIAN
METHOD:PUBLISH
X-WR-CALNAME:Shishukunj
X-ORIGINAL-URL:https://www.shishukunj.in/jhalaria-campus
X-WR-CALDESC:Events for Shishukunj
BEGIN:VTIMEZONE
TZID:Asia/Kolkata
BEGIN:STANDARD
TZOFFSETFROM:+0530
TZOFFSETTO:+0530
TZNAME:IST
DTSTART:20220101T000000
END:STANDARD
END:VTIMEZONE
BEGIN:VEVENT
DTSTART;TZID=Asia/Kolkata:20220820T040000
DTEND;TZID=Asia/Kolkata:20220820T203000
DTSTAMP:20260421T084233
CREATED:20220810T111044Z
LAST-MODIFIED:20220810T111044Z
UID:14184-1660968000-1661027400@www.shishukunj.in
SUMMARY:SHISHUKUNJ MUN 2022 (Opening Ceremony in evening)
DESCRIPTION:
URL:https://www.shishukunj.in/jhalaria-campus/event/shishukunj-mun-2022-opening-ceremony-in-evening/
CATEGORIES:Calendar
END:VEVENT
BEGIN:VEVENT
DTSTART;TZID=Asia/Kolkata:20220820T080000
DTEND;TZID=Asia/Kolkata:20220820T130000
DTSTAMP:20260421T084233
CREATED:20220810T110950Z
LAST-MODIFIED:20220810T110950Z
UID:14182-1660982400-1661000400@www.shishukunj.in
SUMMARY:Class VI PTM
DESCRIPTION:
URL:https://www.shishukunj.in/jhalaria-campus/event/class-vi-ptm/
CATEGORIES:Calendar
END:VEVENT
END:VCALENDAR