BEGIN:VCALENDAR
VERSION:2.0
PRODID:-//Shishukunj - ECPv5.12.2//NONSGML v1.0//EN
CALSCALE:GREGORIAN
METHOD:PUBLISH
X-WR-CALNAME:Shishukunj
X-ORIGINAL-URL:https://www.shishukunj.in/jhalaria-campus
X-WR-CALDESC:Events for Shishukunj
BEGIN:VTIMEZONE
TZID:Asia/Kolkata
BEGIN:STANDARD
TZOFFSETFROM:+0530
TZOFFSETTO:+0530
TZNAME:IST
DTSTART:20230101T000000
END:STANDARD
END:VTIMEZONE
BEGIN:VEVENT
DTSTART;VALUE=DATE:20230302
DTEND;VALUE=DATE:20230316
DTSTAMP:20260420T195730
CREATED:20230104T033906Z
LAST-MODIFIED:20230104T033906Z
UID:15387-1677715200-1678924799@www.shishukunj.in
SUMMARY:Classes VI - IX : Session Break - Holidays
DESCRIPTION:
URL:https://www.shishukunj.in/jhalaria-campus/event/classes-vi-ix-session-break-holidays/
CATEGORIES:Calendar
END:VEVENT
BEGIN:VEVENT
DTSTART;VALUE=DATE:20230304
DTEND;VALUE=DATE:20230316
DTSTAMP:20260420T195730
CREATED:20230104T034002Z
LAST-MODIFIED:20230104T034002Z
UID:15389-1677888000-1678924799@www.shishukunj.in
SUMMARY:Class XI : Session Break - Holidays
DESCRIPTION:
URL:https://www.shishukunj.in/jhalaria-campus/event/class-xi-session-break-holidays/
CATEGORIES:Calendar
END:VEVENT
BEGIN:VEVENT
DTSTART;VALUE=DATE:20230308
DTEND;VALUE=DATE:20230309
DTSTAMP:20260420T195730
CREATED:20220817T041757Z
LAST-MODIFIED:20220826T170253Z
UID:14296-1678233600-1678319999@www.shishukunj.in
SUMMARY:Holi
DESCRIPTION:
URL:https://www.shishukunj.in/jhalaria-campus/event/holi-8/
CATEGORIES:Calendar
END:VEVENT
END:VCALENDAR