BEGIN:VCALENDAR
VERSION:2.0
PRODID:-//Shishukunj - ECPv5.12.2//NONSGML v1.0//EN
CALSCALE:GREGORIAN
METHOD:PUBLISH
X-WR-CALNAME:Shishukunj
X-ORIGINAL-URL:https://www.shishukunj.in/jhalaria-campus
X-WR-CALDESC:Events for Shishukunj
BEGIN:VTIMEZONE
TZID:Asia/Kolkata
BEGIN:STANDARD
TZOFFSETFROM:+0530
TZOFFSETTO:+0530
TZNAME:IST
DTSTART:20260101T000000
END:STANDARD
END:VTIMEZONE
BEGIN:VEVENT
DTSTART;VALUE=DATE:20260128
DTEND;VALUE=DATE:20260131
DTSTAMP:20260419T185607
CREATED:20250726T054954Z
LAST-MODIFIED:20250726T054954Z
UID:23815-1769558400-1769817599@www.shishukunj.in
SUMMARY:Class XI Practicals
DESCRIPTION:
URL:https://www.shishukunj.in/jhalaria-campus/event/class-xi-practicals-3/
CATEGORIES:Calendar
END:VEVENT
BEGIN:VEVENT
DTSTART;VALUE=DATE:20260129
DTEND;VALUE=DATE:20260130
DTSTAMP:20260419T185607
CREATED:20250726T055236Z
LAST-MODIFIED:20250726T055236Z
UID:23823-1769644800-1769731199@www.shishukunj.in
SUMMARY:Pre Board II Classes X & XII
DESCRIPTION:
URL:https://www.shishukunj.in/jhalaria-campus/event/pre-board-ii-classes-x-xii-5/
CATEGORIES:Calendar
END:VEVENT
BEGIN:VEVENT
DTSTART;VALUE=DATE:20260129
DTEND;VALUE=DATE:20260130
DTSTAMP:20260419T185607
CREATED:20260123T110935Z
LAST-MODIFIED:20260123T110935Z
UID:25442-1769644800-1769731199@www.shishukunj.in
SUMMARY:Inter House Science Quiz (VI - VIII)
DESCRIPTION:
URL:https://www.shishukunj.in/jhalaria-campus/event/inter-house-science-quiz-vi-viii/
CATEGORIES:Calendar
END:VEVENT
END:VCALENDAR