BEGIN:VCALENDAR
VERSION:2.0
PRODID:-//Shishukunj - ECPv5.12.2//NONSGML v1.0//EN
CALSCALE:GREGORIAN
METHOD:PUBLISH
X-WR-CALNAME:Shishukunj
X-ORIGINAL-URL:https://www.shishukunj.in/jhalaria-campus
X-WR-CALDESC:Events for Shishukunj
BEGIN:VTIMEZONE
TZID:Asia/Kolkata
BEGIN:STANDARD
TZOFFSETFROM:+0530
TZOFFSETTO:+0530
TZNAME:IST
DTSTART:20240101T000000
END:STANDARD
END:VTIMEZONE
BEGIN:VEVENT
DTSTART;VALUE=DATE:20240401
DTEND;VALUE=DATE:20240402
DTSTAMP:20260422T033247
CREATED:20231220T053616Z
LAST-MODIFIED:20231220T053616Z
UID:18768-1711929600-1712015999@www.shishukunj.in
SUMMARY:Result - Classes VI to IX & XI
DESCRIPTION:
URL:https://www.shishukunj.in/jhalaria-campus/event/result-classes-vi-to-ix-xi/
CATEGORIES:Calendar
END:VEVENT
BEGIN:VEVENT
DTSTART;VALUE=DATE:20240401
DTEND;VALUE=DATE:20240402
DTSTAMP:20260422T033247
CREATED:20231220T053951Z
LAST-MODIFIED:20231220T053951Z
UID:18773-1711929600-1712015999@www.shishukunj.in
SUMMARY:New Academic Session - Classes VI to XII
DESCRIPTION:
URL:https://www.shishukunj.in/jhalaria-campus/event/new-academic-session-classes-vi-to-xii/
CATEGORIES:Calendar
END:VEVENT
END:VCALENDAR