BEGIN:VCALENDAR
VERSION:2.0
PRODID:-//Shishukunj - ECPv5.12.2//NONSGML v1.0//EN
CALSCALE:GREGORIAN
METHOD:PUBLISH
X-WR-CALNAME:Shishukunj
X-ORIGINAL-URL:https://www.shishukunj.in/north-campus
X-WR-CALDESC:Events for Shishukunj
BEGIN:VTIMEZONE
TZID:Asia/Kolkata
BEGIN:STANDARD
TZOFFSETFROM:+0530
TZOFFSETTO:+0530
TZNAME:IST
DTSTART:20230101T000000
END:STANDARD
END:VTIMEZONE
BEGIN:VEVENT
DTSTART;VALUE=DATE:20230427
DTEND;VALUE=DATE:20230430
DTSTAMP:20260420T123546
CREATED:20230520T053431Z
LAST-MODIFIED:20230520T053431Z
UID:14494-1682553600-1682812799@www.shishukunj.in
SUMMARY:AFS TRAINING
DESCRIPTION:
URL:https://www.shishukunj.in/north-campus/event/afs-training-2/
CATEGORIES:Others
END:VEVENT
END:VCALENDAR