BEGIN:VCALENDAR
VERSION:2.0
PRODID:-//Shishukunj - ECPv5.12.2//NONSGML v1.0//EN
CALSCALE:GREGORIAN
METHOD:PUBLISH
X-WR-CALNAME:Shishukunj
X-ORIGINAL-URL:https://www.shishukunj.in/north-campus
X-WR-CALDESC:Events for Shishukunj
BEGIN:VTIMEZONE
TZID:UTC
BEGIN:STANDARD
TZOFFSETFROM:+0000
TZOFFSETTO:+0000
TZNAME:UTC
DTSTART:20160101T000000
END:STANDARD
END:VTIMEZONE
BEGIN:VEVENT
DTSTART;TZID=UTC:20160905T080000
DTEND;TZID=UTC:20160905T170000
DTSTAMP:20260425T231910
CREATED:20190913T061824Z
LAST-MODIFIED:20190913T061824Z
UID:3515-1473062400-1473094800@www.shishukunj.in
SUMMARY:Ganesh Chaturthi
DESCRIPTION:Ganesh Chaturthi
URL:https://www.shishukunj.in/north-campus/event/ganesh-chaturthi-3/
END:VEVENT
END:VCALENDAR