BEGIN:VCALENDAR
VERSION:2.0
PRODID:-//Shishukunj - ECPv5.12.2//NONSGML v1.0//EN
CALSCALE:GREGORIAN
METHOD:PUBLISH
X-WR-CALNAME:Shishukunj
X-ORIGINAL-URL:https://www.shishukunj.in/north-campus
X-WR-CALDESC:Events for Shishukunj
BEGIN:VTIMEZONE
TZID:UTC
BEGIN:STANDARD
TZOFFSETFROM:+0000
TZOFFSETTO:+0000
TZNAME:UTC
DTSTART:20190101T000000
END:STANDARD
END:VTIMEZONE
BEGIN:VEVENT
DTSTART;TZID=UTC:20190911T080000
DTEND;TZID=UTC:20190912T170000
DTSTAMP:20260425T073723
CREATED:20190916T075411Z
LAST-MODIFIED:20190916T075411Z
UID:4115-1568188800-1568307600@www.shishukunj.in
SUMMARY:Second Major Assessment (X - XII)
DESCRIPTION:Second Major Assessment (X – XII)
URL:https://www.shishukunj.in/north-campus/event/second-major-assessment-x-xii-2/
END:VEVENT
END:VCALENDAR