BEGIN:VCALENDAR
VERSION:2.0
PRODID:-//Shishukunj - ECPv5.12.2//NONSGML v1.0//EN
CALSCALE:GREGORIAN
METHOD:PUBLISH
X-WR-CALNAME:Shishukunj
X-ORIGINAL-URL:https://www.shishukunj.in/north-campus
X-WR-CALDESC:Events for Shishukunj
BEGIN:VTIMEZONE
TZID:UTC
BEGIN:STANDARD
TZOFFSETFROM:+0000
TZOFFSETTO:+0000
TZNAME:UTC
DTSTART:20180101T000000
END:STANDARD
END:VTIMEZONE
BEGIN:VEVENT
DTSTART;TZID=UTC:20181219T080000
DTEND;TZID=UTC:20190108T170000
DTSTAMP:20260425T212419
CREATED:20190916T065042Z
LAST-MODIFIED:20190916T065042Z
UID:4042-1545206400-1546966800@www.shishukunj.in
SUMMARY:Major Assessment - III (XI)
DESCRIPTION:Major Assessment – III (XI)
URL:https://www.shishukunj.in/north-campus/event/major-assessment-iii-xi/
END:VEVENT
BEGIN:VEVENT
DTSTART;TZID=UTC:20190103T080000
DTEND;TZID=UTC:20190114T170000
DTSTAMP:20260425T212419
CREATED:20190916T065347Z
LAST-MODIFIED:20190916T065347Z
UID:4049-1546502400-1547485200@www.shishukunj.in
SUMMARY:Pre Board - I Exam ( X )
DESCRIPTION:Pre Board – I Exam ( X )
URL:https://www.shishukunj.in/north-campus/event/pre-board-i-exam-x/
END:VEVENT
BEGIN:VEVENT
DTSTART;TZID=UTC:20190103T080000
DTEND;TZID=UTC:20190114T170000
DTSTAMP:20260425T212419
CREATED:20190916T065433Z
LAST-MODIFIED:20190916T065433Z
UID:4051-1546502400-1547485200@www.shishukunj.in
SUMMARY:Pre Board - II Exam ( XII )
DESCRIPTION:Pre Board – II Exam ( XII )
URL:https://www.shishukunj.in/north-campus/event/pre-board-ii-exam-xii/
END:VEVENT
END:VCALENDAR