BEGIN:VCALENDAR
VERSION:2.0
PRODID:-//Shishukunj - ECPv5.12.2//NONSGML v1.0//EN
CALSCALE:GREGORIAN
METHOD:PUBLISH
X-WR-CALNAME:Shishukunj
X-ORIGINAL-URL:https://www.shishukunj.in/north-campus
X-WR-CALDESC:Events for Shishukunj
BEGIN:VTIMEZONE
TZID:Asia/Kolkata
BEGIN:STANDARD
TZOFFSETFROM:+0530
TZOFFSETTO:+0530
TZNAME:IST
DTSTART:20220101T000000
END:STANDARD
END:VTIMEZONE
BEGIN:VEVENT
DTSTART;VALUE=DATE:20220614
DTEND;VALUE=DATE:20220615
DTSTAMP:20260423T025412
CREATED:20220603T073415Z
LAST-MODIFIED:20220606T065428Z
UID:13473-1655164800-1655251199@www.shishukunj.in
SUMMARY:School reopens for Students
DESCRIPTION:
URL:https://www.shishukunj.in/north-campus/event/school-reopens-for-students/
CATEGORIES:Class Activity
END:VEVENT
END:VCALENDAR