BEGIN:VCALENDAR
VERSION:2.0
PRODID:-//Shishukunj - ECPv5.12.2//NONSGML v1.0//EN
CALSCALE:GREGORIAN
METHOD:PUBLISH
X-WR-CALNAME:Shishukunj
X-ORIGINAL-URL:https://www.shishukunj.in/north-campus
X-WR-CALDESC:Events for Shishukunj
BEGIN:VTIMEZONE
TZID:Asia/Kolkata
BEGIN:STANDARD
TZOFFSETFROM:+0530
TZOFFSETTO:+0530
TZNAME:IST
DTSTART:20220101T000000
END:STANDARD
END:VTIMEZONE
BEGIN:VEVENT
DTSTART;VALUE=DATE:20220621
DTEND;VALUE=DATE:20220622
DTSTAMP:20260423T025406
CREATED:20220603T074144Z
LAST-MODIFIED:20220606T065357Z
UID:13475-1655769600-1655855999@www.shishukunj.in
SUMMARY:International Yoga day
DESCRIPTION:
URL:https://www.shishukunj.in/north-campus/event/international-yoga-day/
CATEGORIES:Class Activity
END:VEVENT
END:VCALENDAR