BEGIN:VCALENDAR
VERSION:2.0
PRODID:-//Shishukunj - ECPv5.12.2//NONSGML v1.0//EN
CALSCALE:GREGORIAN
METHOD:PUBLISH
X-WR-CALNAME:Shishukunj
X-ORIGINAL-URL:https://www.shishukunj.in/north-campus
X-WR-CALDESC:Events for Shishukunj
BEGIN:VTIMEZONE
TZID:Asia/Kolkata
BEGIN:STANDARD
TZOFFSETFROM:+0530
TZOFFSETTO:+0530
TZNAME:IST
DTSTART:20220101T000000
END:STANDARD
END:VTIMEZONE
BEGIN:VEVENT
DTSTART;VALUE=DATE:20220716
DTEND;VALUE=DATE:20220717
DTSTAMP:20260423T013032
CREATED:20220720T142316Z
LAST-MODIFIED:20220720T142316Z
UID:13765-1657929600-1658015999@www.shishukunj.in
SUMMARY:Inter-House Book Sell Competition | Classes IX to X
DESCRIPTION:
URL:https://www.shishukunj.in/north-campus/event/inter-house-book-sell-competition-classes-ix-to-x/
CATEGORIES:Others
END:VEVENT
END:VCALENDAR