BEGIN:VCALENDAR
VERSION:2.0
PRODID:-//Shishukunj - ECPv5.12.2//NONSGML v1.0//EN
CALSCALE:GREGORIAN
METHOD:PUBLISH
X-WR-CALNAME:Shishukunj
X-ORIGINAL-URL:https://www.shishukunj.in/north-campus
X-WR-CALDESC:Events for Shishukunj
BEGIN:VTIMEZONE
TZID:Asia/Kolkata
BEGIN:STANDARD
TZOFFSETFROM:+0530
TZOFFSETTO:+0530
TZNAME:IST
DTSTART:20220101T000000
END:STANDARD
END:VTIMEZONE
BEGIN:VEVENT
DTSTART;VALUE=DATE:20220718
DTEND;VALUE=DATE:20220721
DTSTAMP:20260423T025406
CREATED:20220720T142215Z
LAST-MODIFIED:20220720T142215Z
UID:13763-1658102400-1658361599@www.shishukunj.in
SUMMARY:Enlighten MUN Workshop | Classes VII to X
DESCRIPTION:
URL:https://www.shishukunj.in/north-campus/event/enlighten-mun-workshop-classes-vii-to-x/
CATEGORIES:Others
END:VEVENT
END:VCALENDAR