BEGIN:VCALENDAR
VERSION:2.0
PRODID:-//Shishukunj - ECPv5.12.2//NONSGML v1.0//EN
CALSCALE:GREGORIAN
METHOD:PUBLISH
X-WR-CALNAME:Shishukunj
X-ORIGINAL-URL:https://www.shishukunj.in/north-campus
X-WR-CALDESC:Events for Shishukunj
BEGIN:VTIMEZONE
TZID:Asia/Kolkata
BEGIN:STANDARD
TZOFFSETFROM:+0530
TZOFFSETTO:+0530
TZNAME:IST
DTSTART:20230101T000000
END:STANDARD
END:VTIMEZONE
BEGIN:VEVENT
DTSTART;VALUE=DATE:20230628
DTEND;VALUE=DATE:20230629
DTSTAMP:20260420T073904
CREATED:20230520T070245Z
LAST-MODIFIED:20230703T042749Z
UID:14530-1687910400-1687996799@www.shishukunj.in
SUMMARY:DA 2: MATHS:X DA1:SCIENCE:VI-IX
DESCRIPTION:
URL:https://www.shishukunj.in/north-campus/event/da-2-mathsx-da1sciencevi-ix/
CATEGORIES:Others
END:VEVENT
END:VCALENDAR