BEGIN:VCALENDAR
VERSION:2.0
PRODID:-//Shishukunj - ECPv5.12.2//NONSGML v1.0//EN
CALSCALE:GREGORIAN
METHOD:PUBLISH
X-WR-CALNAME:Shishukunj
X-ORIGINAL-URL:https://www.shishukunj.in/north-campus
X-WR-CALDESC:Events for Shishukunj
BEGIN:VTIMEZONE
TZID:Asia/Kolkata
BEGIN:STANDARD
TZOFFSETFROM:+0530
TZOFFSETTO:+0530
TZNAME:IST
DTSTART:20230101T000000
END:STANDARD
END:VTIMEZONE
BEGIN:VEVENT
DTSTART;VALUE=DATE:20230818
DTEND;VALUE=DATE:20230819
DTSTAMP:20260420T054943
CREATED:20230731T081312Z
LAST-MODIFIED:20230809T142732Z
UID:14990-1692316800-1692403199@www.shishukunj.in
SUMMARY:HOUSE MEETING
DESCRIPTION:
URL:https://www.shishukunj.in/north-campus/event/literary-kaleidoscope-lit-fest-culmination/
CATEGORIES:Others
END:VEVENT
END:VCALENDAR