BEGIN:VCALENDAR
VERSION:2.0
PRODID:-//Shishukunj - ECPv5.12.2//NONSGML v1.0//EN
CALSCALE:GREGORIAN
METHOD:PUBLISH
X-WR-CALNAME:Shishukunj
X-ORIGINAL-URL:https://www.shishukunj.in/north-campus
X-WR-CALDESC:Events for Shishukunj
BEGIN:VTIMEZONE
TZID:Asia/Kolkata
BEGIN:STANDARD
TZOFFSETFROM:+0530
TZOFFSETTO:+0530
TZNAME:IST
DTSTART:20230101T000000
END:STANDARD
END:VTIMEZONE
BEGIN:VEVENT
DTSTART;VALUE=DATE:20230906
DTEND;VALUE=DATE:20230907
DTSTAMP:20260420T041926
CREATED:20230901T071409Z
LAST-MODIFIED:20230901T071409Z
UID:15336-1693958400-1694044799@www.shishukunj.in
SUMMARY:DA 3: SCIENCE: VI-IX
DESCRIPTION:
URL:https://www.shishukunj.in/north-campus/event/da-3-science-vi-ix/
CATEGORIES:Others
END:VEVENT
BEGIN:VEVENT
DTSTART;VALUE=DATE:20230906
DTEND;VALUE=DATE:20230907
DTSTAMP:20260420T041926
CREATED:20230901T071512Z
LAST-MODIFIED:20230901T071512Z
UID:15338-1693958400-1694044799@www.shishukunj.in
SUMMARY:DA 4 SCIENCE :X
DESCRIPTION:
URL:https://www.shishukunj.in/north-campus/event/da-4-science-x/
CATEGORIES:Others
END:VEVENT
END:VCALENDAR