BEGIN:VCALENDAR
VERSION:2.0
PRODID:-//Shishukunj - ECPv5.12.2//NONSGML v1.0//EN
CALSCALE:GREGORIAN
METHOD:PUBLISH
X-WR-CALNAME:Shishukunj
X-ORIGINAL-URL:https://www.shishukunj.in/north-campus
X-WR-CALDESC:Events for Shishukunj
BEGIN:VTIMEZONE
TZID:Asia/Kolkata
BEGIN:STANDARD
TZOFFSETFROM:+0530
TZOFFSETTO:+0530
TZNAME:IST
DTSTART:20230101T000000
END:STANDARD
END:VTIMEZONE
BEGIN:VEVENT
DTSTART;TZID=Asia/Kolkata:20230914T080000
DTEND;TZID=Asia/Kolkata:20230914T170000
DTSTAMP:20260420T042052
CREATED:20230901T072741Z
LAST-MODIFIED:20230901T072741Z
UID:15347-1694678400-1694710800@www.shishukunj.in
SUMMARY:ASSEMBLY: HINDI DIWAS CELEBRATIONS
DESCRIPTION:
URL:https://www.shishukunj.in/north-campus/event/assembly-hindi-diwas-celebrations/
CATEGORIES:Others
END:VEVENT
END:VCALENDAR