BEGIN:VCALENDAR
VERSION:2.0
PRODID:-//Shishukunj - ECPv5.12.2//NONSGML v1.0//EN
CALSCALE:GREGORIAN
METHOD:PUBLISH
X-WR-CALNAME:Shishukunj
X-ORIGINAL-URL:https://www.shishukunj.in/north-campus
X-WR-CALDESC:Events for Shishukunj
BEGIN:VTIMEZONE
TZID:Asia/Kolkata
BEGIN:STANDARD
TZOFFSETFROM:+0530
TZOFFSETTO:+0530
TZNAME:IST
DTSTART:20230101T000000
END:STANDARD
END:VTIMEZONE
BEGIN:VEVENT
DTSTART;VALUE=DATE:20230929
DTEND;VALUE=DATE:20231001
DTSTAMP:20260420T024913
CREATED:20230901T073442Z
LAST-MODIFIED:20230901T073842Z
UID:15357-1695945600-1696118399@www.shishukunj.in
SUMMARY:HALF YEARLY EXAMINATION
DESCRIPTION:
URL:https://www.shishukunj.in/north-campus/event/half-yearly-examinations-3/
CATEGORIES:Others
END:VEVENT
END:VCALENDAR