BEGIN:VCALENDAR
VERSION:2.0
PRODID:-//Shishukunj - ECPv5.12.2//NONSGML v1.0//EN
CALSCALE:GREGORIAN
METHOD:PUBLISH
X-WR-CALNAME:Shishukunj
X-ORIGINAL-URL:https://www.shishukunj.in/north-campus
X-WR-CALDESC:Events for Shishukunj
BEGIN:VTIMEZONE
TZID:Asia/Kolkata
BEGIN:STANDARD
TZOFFSETFROM:+0530
TZOFFSETTO:+0530
TZNAME:IST
DTSTART:20230101T000000
END:STANDARD
END:VTIMEZONE
BEGIN:VEVENT
DTSTART;VALUE=DATE:20231009
DTEND;VALUE=DATE:20231010
DTSTAMP:20260420T024458
CREATED:20231015T094728Z
LAST-MODIFIED:20231015T094907Z
UID:15577-1696809600-1696895999@www.shishukunj.in
SUMMARY:MASTER STROKE MSM INTERSCHOOL CRICKET TOURNAMENT
DESCRIPTION:
URL:https://www.shishukunj.in/north-campus/event/master-stroke-msm-interschool-cricket-tournament/
CATEGORIES:Others
END:VEVENT
END:VCALENDAR