BEGIN:VCALENDAR
VERSION:2.0
PRODID:-//Shishukunj - ECPv5.12.2//NONSGML v1.0//EN
CALSCALE:GREGORIAN
METHOD:PUBLISH
X-WR-CALNAME:Shishukunj
X-ORIGINAL-URL:https://www.shishukunj.in/north-campus
X-WR-CALDESC:Events for Shishukunj
BEGIN:VTIMEZONE
TZID:Asia/Kolkata
BEGIN:STANDARD
TZOFFSETFROM:+0530
TZOFFSETTO:+0530
TZNAME:IST
DTSTART:20230101T000000
END:STANDARD
END:VTIMEZONE
BEGIN:VEVENT
DTSTART;VALUE=DATE:20231108
DTEND;VALUE=DATE:20231109
DTSTAMP:20260420T010757
CREATED:20231101T081042Z
LAST-MODIFIED:20231101T081339Z
UID:15758-1699401600-1699487999@www.shishukunj.in
SUMMARY:DA 6 ENGLISH; X
DESCRIPTION:
URL:https://www.shishukunj.in/north-campus/event/da-6-english-x/
CATEGORIES:Others
END:VEVENT
END:VCALENDAR