BEGIN:VCALENDAR
VERSION:2.0
PRODID:-//Shishukunj - ECPv5.12.2//NONSGML v1.0//EN
CALSCALE:GREGORIAN
METHOD:PUBLISH
X-WR-CALNAME:Shishukunj
X-ORIGINAL-URL:https://www.shishukunj.in/north-campus
X-WR-CALDESC:Events for Shishukunj
BEGIN:VTIMEZONE
TZID:Asia/Kolkata
BEGIN:STANDARD
TZOFFSETFROM:+0530
TZOFFSETTO:+0530
TZNAME:IST
DTSTART:20240101T000000
END:STANDARD
END:VTIMEZONE
BEGIN:VEVENT
DTSTART;VALUE=DATE:20240109
DTEND;VALUE=DATE:20240112
DTSTAMP:20260419T221048
CREATED:20240109T085525Z
LAST-MODIFIED:20240110T044731Z
UID:15915-1704758400-1705017599@www.shishukunj.in
SUMMARY:EI ASSET EXAMINATIONS
DESCRIPTION:
URL:https://www.shishukunj.in/north-campus/event/ei-asset-examinations/
CATEGORIES:Others
END:VEVENT
END:VCALENDAR