BEGIN:VCALENDAR
VERSION:2.0
PRODID:-//Shishukunj - ECPv5.12.2//NONSGML v1.0//EN
CALSCALE:GREGORIAN
METHOD:PUBLISH
X-WR-CALNAME:Shishukunj
X-ORIGINAL-URL:https://www.shishukunj.in/north-campus
X-WR-CALDESC:Events for Shishukunj
BEGIN:VTIMEZONE
TZID:Asia/Kolkata
BEGIN:STANDARD
TZOFFSETFROM:+0530
TZOFFSETTO:+0530
TZNAME:IST
DTSTART:20240101T000000
END:STANDARD
END:VTIMEZONE
BEGIN:VEVENT
DTSTART;VALUE=DATE:20240212
DTEND;VALUE=DATE:20240218
DTSTAMP:20260419T203344
CREATED:20240201T040340Z
LAST-MODIFIED:20240201T040340Z
UID:16093-1707696000-1708214399@www.shishukunj.in
SUMMARY:ICT PRACTICAL EXAM
DESCRIPTION:
URL:https://www.shishukunj.in/north-campus/event/ict-practical-exam/
CATEGORIES:Others
END:VEVENT
END:VCALENDAR