BEGIN:VCALENDAR
VERSION:2.0
PRODID:-//Shishukunj - ECPv5.12.2//NONSGML v1.0//EN
CALSCALE:GREGORIAN
METHOD:PUBLISH
X-WR-CALNAME:Shishukunj
X-ORIGINAL-URL:https://www.shishukunj.in/north-campus
X-WR-CALDESC:Events for Shishukunj
BEGIN:VTIMEZONE
TZID:Asia/Kolkata
BEGIN:STANDARD
TZOFFSETFROM:+0530
TZOFFSETTO:+0530
TZNAME:IST
DTSTART:20240101T000000
END:STANDARD
END:VTIMEZONE
BEGIN:VEVENT
DTSTART;VALUE=DATE:20240221
DTEND;VALUE=DATE:20240222
DTSTAMP:20260419T203327
CREATED:20240201T040836Z
LAST-MODIFIED:20240201T040836Z
UID:16099-1708473600-1708559999@www.shishukunj.in
SUMMARY:Class Assembly: Exams On The Horizons
DESCRIPTION:
URL:https://www.shishukunj.in/north-campus/event/class-assembly-exams-on-the-horizons/
CATEGORIES:Others
END:VEVENT
END:VCALENDAR