BEGIN:VCALENDAR
VERSION:2.0
PRODID:-//Shishukunj - ECPv5.12.2//NONSGML v1.0//EN
CALSCALE:GREGORIAN
METHOD:PUBLISH
X-WR-CALNAME:Shishukunj
X-ORIGINAL-URL:https://www.shishukunj.in/north-campus
X-WR-CALDESC:Events for Shishukunj
BEGIN:VTIMEZONE
TZID:Asia/Kolkata
BEGIN:STANDARD
TZOFFSETFROM:+0530
TZOFFSETTO:+0530
TZNAME:IST
DTSTART:20240101T000000
END:STANDARD
END:VTIMEZONE
BEGIN:VEVENT
DTSTART;VALUE=DATE:20240328
DTEND;VALUE=DATE:20240329
DTSTAMP:20260419T185601
CREATED:20240301T091410Z
LAST-MODIFIED:20240301T091410Z
UID:16189-1711584000-1711670399@www.shishukunj.in
SUMMARY:PTM: RESULT DECLARATION:  NURSERY-V
DESCRIPTION:
URL:https://www.shishukunj.in/north-campus/event/ptm-result-declaration-nursery-v/
CATEGORIES:Others
END:VEVENT
END:VCALENDAR