BEGIN:VCALENDAR
VERSION:2.0
PRODID:-//Shishukunj - ECPv5.12.2//NONSGML v1.0//EN
CALSCALE:GREGORIAN
METHOD:PUBLISH
X-WR-CALNAME:Shishukunj
X-ORIGINAL-URL:https://www.shishukunj.in/north-campus
X-WR-CALDESC:Events for Shishukunj
BEGIN:VTIMEZONE
TZID:Asia/Kolkata
BEGIN:STANDARD
TZOFFSETFROM:+0530
TZOFFSETTO:+0530
TZNAME:IST
DTSTART:20240101T000000
END:STANDARD
END:VTIMEZONE
BEGIN:VEVENT
DTSTART;VALUE=DATE:20240409
DTEND;VALUE=DATE:20240410
DTSTAMP:20260421T161730
CREATED:20240404T033553Z
LAST-MODIFIED:20240404T033553Z
UID:16299-1712620800-1712707199@www.shishukunj.in
SUMMARY:GUDI PADWA
DESCRIPTION:
URL:https://www.shishukunj.in/north-campus/event/gudi-padwa/
CATEGORIES:Others
END:VEVENT
END:VCALENDAR