BEGIN:VCALENDAR
VERSION:2.0
PRODID:-//Shishukunj - ECPv5.12.2//NONSGML v1.0//EN
CALSCALE:GREGORIAN
METHOD:PUBLISH
X-WR-CALNAME:Shishukunj
X-ORIGINAL-URL:https://www.shishukunj.in/north-campus
X-WR-CALDESC:Events for Shishukunj
BEGIN:VTIMEZONE
TZID:Asia/Kolkata
BEGIN:STANDARD
TZOFFSETFROM:+0530
TZOFFSETTO:+0530
TZNAME:IST
DTSTART:20240101T000000
END:STANDARD
END:VTIMEZONE
BEGIN:VEVENT
DTSTART;VALUE=DATE:20241009
DTEND;VALUE=DATE:20241010
DTSTAMP:20260421T085211
CREATED:20241001T034247Z
LAST-MODIFIED:20241001T035019Z
UID:17332-1728432000-1728518399@www.shishukunj.in
SUMMARY:SHISHUKUNJ SEWA SANGAM (OFF FOR VI-XII)
DESCRIPTION:
URL:https://www.shishukunj.in/north-campus/event/shishukunj-sewa-sangam-off-for-vi-xii/
CATEGORIES:Others
END:VEVENT
END:VCALENDAR